BEGIN:VCALENDAR
VERSION:2.0
PRODID:-//jEvents 2.0 for Joomla//EN
CALSCALE:GREGORIAN
METHOD:PUBLISH
BEGIN:VTIMEZONE
TZID:Europe/Helsinki
BEGIN:STANDARD
DTSTART:20161203T173000
RDATE:20170326T040000
TZOFFSETFROM:+0300
TZOFFSETTO:+0200
TZNAME:Europe/Helsinki EET
END:STANDARD
BEGIN:STANDARD
DTSTART:20171029T030000
RDATE:20180325T040000
TZOFFSETFROM:+0300
TZOFFSETTO:+0200
TZNAME:Europe/Helsinki EET
END:STANDARD
BEGIN:STANDARD
DTSTART:20181028T030000
RDATE:20190331T040000
TZOFFSETFROM:+0300
TZOFFSETTO:+0200
TZNAME:Europe/Helsinki EET
END:STANDARD
BEGIN:DAYLIGHT
DTSTART:20170326T040000
RDATE:20171029T030000
TZOFFSETFROM:+0200
TZOFFSETTO:+0300
TZNAME:Europe/Helsinki EEST
END:DAYLIGHT
BEGIN:DAYLIGHT
DTSTART:20180325T040000
RDATE:20181028T030000
TZOFFSETFROM:+0200
TZOFFSETTO:+0300
TZNAME:Europe/Helsinki EEST
END:DAYLIGHT
END:VTIMEZONE
BEGIN:VEVENT
UID:88db2c6c269868b44d3dcf2f6a227d77
CATEGORIES:Public Event
CREATED:20171116T111348
SUMMARY:PATA Finland Chapter vuosikokous
DESCRIPTION:PATA Finland Chapterin vuosikokous pidetään maanantaina 4.12.2017 klo 17.30
  alkaen Radisson BLU Plazan Takkahuoneessa.\nAsialistalla vuosikokousasiat 
 ja vapaata seurustelua, ruokaa ja juomaa kollegoiden seurassa!. \nHallituks
 essa on avoimia paikkoja ja kaikki jäsenet ovat tervetulleita ehdottamaan j
 oko itseään tai kollegansa.  Ehdotukset 29.11.2017 mennessä sähköpostilla p
 ata(at) patafinland.fi.  Tervetuloa mukaan hallitukseen tekemään yhdessä ty
 ötä koko alamme hyväksi!\nStipendianomukset käsitellään hallituksen kokouks
 essa ja päätös julkaistaan vuosikokouksessa.  Lähetäthän anomuksesi viim.  
 29.22.2017 sähköpostitse osoitteeseen pata(at)patafinland.fi\n \nLämpimästi
  tervetuloa!\nPATA Finland Chapter\nExecutive Committee\n
X-ALT-DESC;FMTTYPE=text/html:<p>PATA Finland Chapterin vuosikokous pidetään maanantaina 4.12.2017 klo 17
 .30 alkaen <strong>Radisson BLU Plazan Takkahuoneessa.</strong></p><p>Asial
 istalla vuosikokousasiat ja vapaata seurustelua, ruokaa ja juomaa kollegoid
 en seurassa!.&nbsp;</p><p>Hallituksessa on avoimia paikkoja ja kaikki jäsen
 et ovat tervetulleita ehdottamaan joko itseään tai kollegansa.&nbsp; Ehdotu
 kset 29.11.2017 mennessä sähköpostilla pata(at) patafinland.fi.&nbsp; Terve
 tuloa mukaan hallitukseen tekemään yhdessä työtä koko alamme hyväksi!</p><p
 >Stipendianomukset käsitellään hallituksen kokouksessa ja päätös julkaistaa
 n vuosikokouksessa.&nbsp; Lähetäthän anomuksesi viim.&nbsp; 29.22.2017 sähk
 öpostitse osoitteeseen pata(at)patafinland.fi</p><p>&nbsp;</p><p>Lämpimästi
  tervetuloa!</p><p>PATA Finland Chapter</p><p>Executive Committee</p>
DTSTAMP:20260421T110316
DTSTART;TZID=Europe/Helsinki:20171204T173000
SEQUENCE:0
TRANSP:OPAQUE
END:VEVENT
END:VCALENDAR