BEGIN:VCALENDAR
VERSION:2.0
PRODID:-//jEvents 2.0 for Joomla//EN
CALSCALE:GREGORIAN
METHOD:PUBLISH
BEGIN:VTIMEZONE
TZID:Europe/Helsinki
BEGIN:STANDARD
DTSTART:20161030T030000
RDATE:20170326T040000
TZOFFSETFROM:+0300
TZOFFSETTO:+0200
TZNAME:Europe/Helsinki EET
END:STANDARD
BEGIN:STANDARD
DTSTART:20171029T030000
RDATE:20180325T040000
TZOFFSETFROM:+0300
TZOFFSETTO:+0200
TZNAME:Europe/Helsinki EET
END:STANDARD
BEGIN:STANDARD
DTSTART:20181028T030000
RDATE:20190331T040000
TZOFFSETFROM:+0300
TZOFFSETTO:+0200
TZNAME:Europe/Helsinki EET
END:STANDARD
BEGIN:DAYLIGHT
DTSTART:20160404T173000
RDATE:20161030T030000
TZOFFSETFROM:+0200
TZOFFSETTO:+0300
TZNAME:Europe/Helsinki EEST
END:DAYLIGHT
BEGIN:DAYLIGHT
DTSTART:20170326T040000
RDATE:20171029T030000
TZOFFSETFROM:+0200
TZOFFSETTO:+0300
TZNAME:Europe/Helsinki EEST
END:DAYLIGHT
BEGIN:DAYLIGHT
DTSTART:20180325T040000
RDATE:20181028T030000
TZOFFSETFROM:+0200
TZOFFSETTO:+0300
TZNAME:Europe/Helsinki EEST
END:DAYLIGHT
END:VTIMEZONE
BEGIN:VEVENT
UID:537cab57f52ebdc4a7c8164e2ef7206e
CATEGORIES:Public Event
CREATED:20170321T082927
SUMMARY:Round the World with stand-by tickets Raportti-ilta
DESCRIPTION:<p><strong>Miten onnistui Round the World -matka stand by -lipulla?</strong
 ></p><p>PATA Finland Chapter jäsen, stipendiaatti Pia Kukkonen kävi testaam
 assa <br />ja kertoo nyt kokemuksensa PATA jäsenille.</p><p>Saat samalla up
 date tietoa kohteista Sydney ja Hawajin Maui.</p><p>Aika: keskiviikkona 5.4
 . klo 1730</p><p>Paikka: SMAL toimisto, Vilhonkatu 4 B, 3. krs</p><p>Tilais
 uus on vain PATA Finland Chapter jäsenille.</p><p>Ilmoittaudu mukaan jäsens
 ivujen kautta.</p><p>Paikkoja rajoitetusti.</p><p>TERVETULOA!</p><p> </p><p
 > </p><p> </p>
DTSTAMP:20260422T000844
DTSTART;TZID=Europe/Helsinki:20170405T173000
SEQUENCE:0
TRANSP:OPAQUE
END:VEVENT
END:VCALENDAR