BEGIN:VCALENDAR
VERSION:2.0
PRODID:-//jEvents 2.0 for Joomla//EN
CALSCALE:GREGORIAN
METHOD:PUBLISH
BEGIN:VTIMEZONE
TZID:Europe/Helsinki
BEGIN:STANDARD
DTSTART:20161030T030000
RDATE:20170326T040000
TZOFFSETFROM:+0300
TZOFFSETTO:+0200
TZNAME:Europe/Helsinki EET
END:STANDARD
BEGIN:STANDARD
DTSTART:20171029T030000
RDATE:20180325T040000
TZOFFSETFROM:+0300
TZOFFSETTO:+0200
TZNAME:Europe/Helsinki EET
END:STANDARD
BEGIN:STANDARD
DTSTART:20181028T030000
RDATE:20190331T040000
TZOFFSETFROM:+0300
TZOFFSETTO:+0200
TZNAME:Europe/Helsinki EET
END:STANDARD
BEGIN:DAYLIGHT
DTSTART:20160423T173000
RDATE:20161030T030000
TZOFFSETFROM:+0200
TZOFFSETTO:+0300
TZNAME:Europe/Helsinki EEST
END:DAYLIGHT
BEGIN:DAYLIGHT
DTSTART:20170326T040000
RDATE:20171029T030000
TZOFFSETFROM:+0200
TZOFFSETTO:+0300
TZNAME:Europe/Helsinki EEST
END:DAYLIGHT
BEGIN:DAYLIGHT
DTSTART:20180325T040000
RDATE:20181028T030000
TZOFFSETFROM:+0200
TZOFFSETTO:+0300
TZNAME:Europe/Helsinki EEST
END:DAYLIGHT
END:VTIMEZONE
BEGIN:VEVENT
UID:f3e43d612c982d8dfa52e1ca4b86c12f
CATEGORIES:Public Event
CREATED:20170314T143348
SUMMARY:Rauli Virtanen @PATA Basics
DESCRIPTION:<p style="margin-top: 0cm; margin-right: 0cm; margin-bottom: 0pt;">Hyvä jäs
 en,</p><p style="margin-top: 0cm; margin-right: 0cm; margin-bottom: 0pt;">m
 aailman monimuotoisuuden ja kulttuurien rikkauden ymmärtäminen on meille ma
 tka-alan ihmisille yhä tärkeämpää.</p><p style="margin-top: 0cm; margin-rig
 ht: 0cm; margin-bottom: 0pt;">Siksi on suuri ilo ilmoittaa, että olemme saa
 neet koulutusohjelmaamme luennoitsijaksi todellisen maailmanmatkaajan<stron
 g>, Rauli Virtasen.</strong>  Rauli on käynyt kaikissa YK:n 193:ssa itsenäi
 sessä valtiossa,  on monesti palkittu toimittaja ja kirjailija sekä Tampere
 en yliopiston journalistiikan vierailijaprofessori vuosina 2015-2016.     <
 /p><p style="margin-top: 0cm; margin-right: 0cm; margin-bottom: 0pt;">Rauli
  valottaa meille luennossaan matkailijan näkökulmasta kuinka historia on mu
 ovannut Aasian valtioiden nykypäivää ja yhteiskuntaa ja kertoo myös kokemuk
 sistaan Aasian matkoiltaan.</p><p style="margin-top: 0cm; margin-right: 0cm
 ; margin-bottom: 0pt;"><strong>Aika</strong>     ma 24.4. klo 17.30</p><p s
 tyle="margin-top: 0cm; margin-right: 0cm; margin-bottom: 0pt;"><strong>Paik
 ka</strong> Botta, Juhlakerros, Chydenius-sali</p><p style="margin-top: 0cm
 ; margin-right: 0cm; margin-bottom: 0pt;">             Museokatu 10, Edusku
 ntatalon vieressä</p><p style="margin-top: 0cm; margin-right: 0cm; margin-b
 ottom: 0pt;">tarjolla kahvia, teetä ja kolmioleipä</p><p style="margin-top:
  0cm; margin-right: 0cm; margin-bottom: 0pt;">Ilmoittaudu mukaan jäsensivui
 lla.  Tilaisuus on vain PATA Finland Chapterin jäsenille joten tarkista ett
 ä jäsenmaksu on maksettu.</p><p>Tervetuloa mukaan!!</p><p>PATA Finland Chap
 ter</p>
DTSTAMP:20260422T001647
DTSTART;TZID=Europe/Helsinki:20170424T173000
DTEND;TZID=Europe/Helsinki:20170424T200000
SEQUENCE:0
TRANSP:OPAQUE
END:VEVENT
END:VCALENDAR