BEGIN:VCALENDAR
VERSION:2.0
PRODID:-//jEvents 2.0 for Joomla//EN
CALSCALE:GREGORIAN
METHOD:PUBLISH
BEGIN:VTIMEZONE
TZID:Europe/Helsinki
BEGIN:STANDARD
DTSTART:20160308T173000
RDATE:20160327T040000
TZOFFSETFROM:+0300
TZOFFSETTO:+0200
TZNAME:Europe/Helsinki EET
END:STANDARD
BEGIN:STANDARD
DTSTART:20161030T030000
RDATE:20170326T040000
TZOFFSETFROM:+0300
TZOFFSETTO:+0200
TZNAME:Europe/Helsinki EET
END:STANDARD
BEGIN:STANDARD
DTSTART:20171029T030000
RDATE:20180325T040000
TZOFFSETFROM:+0300
TZOFFSETTO:+0200
TZNAME:Europe/Helsinki EET
END:STANDARD
BEGIN:STANDARD
DTSTART:20181028T030000
RDATE:20190331T040000
TZOFFSETFROM:+0300
TZOFFSETTO:+0200
TZNAME:Europe/Helsinki EET
END:STANDARD
BEGIN:DAYLIGHT
DTSTART:20160327T040000
RDATE:20161030T030000
TZOFFSETFROM:+0200
TZOFFSETTO:+0300
TZNAME:Europe/Helsinki EEST
END:DAYLIGHT
BEGIN:DAYLIGHT
DTSTART:20170326T040000
RDATE:20171029T030000
TZOFFSETFROM:+0200
TZOFFSETTO:+0300
TZNAME:Europe/Helsinki EEST
END:DAYLIGHT
BEGIN:DAYLIGHT
DTSTART:20180325T040000
RDATE:20181028T030000
TZOFFSETFROM:+0200
TZOFFSETTO:+0300
TZNAME:Europe/Helsinki EEST
END:DAYLIGHT
END:VTIMEZONE
BEGIN:VEVENT
UID:16dbd246c74ac559eb105da2017c2004
CATEGORIES:Public Event
CREATED:20170223T121444
SUMMARY:MATKARAPORTTI-ILTA BORNEO MALESIA
DESCRIPTION:Tervetuloa matkaraportti-iltaan\n \nHuom! Paikka vaihtunut. Info pidetään S
 MALin toimistossa, Vilhonkatu 4 B, 3 krs.  9.3. klo 1730.\n \nOpintomatkail
 aisemme kertovat sanoin ja kuvin matkastaan Borneolle Malesiaan.\nRyhmän pä
 äkohteena oli Borneo Sabahin maakunnassa, joten paljon mielenkiintoista tie
 toa tulossa.\n \nTarjolla kahvi/tee ja voileipä.\n \nTervetuloa - nähdään S
 MALin toimistossa!\n \nPATA Finland Chapter\n
X-ALT-DESC;FMTTYPE=text/html:<p>Tervetuloa matkaraportti-iltaan</p><p> </p><p>Huom! Paikka vaihtunut. In
 fo pidetään SMALin toimistossa, Vilhonkatu 4 B, 3 krs.  9.3. klo 1730.</p><
 p> </p><p>Opintomatkailaisemme kertovat sanoin ja kuvin matkastaan Borneoll
 e Malesiaan.</p><p>Ryhmän pääkohteena oli Borneo Sabahin maakunnassa, joten
  paljon mielenkiintoista tietoa tulossa.</p><p> </p><p>Tarjolla kahvi/tee j
 a voileipä.</p><p> </p><p>Tervetuloa - nähdään SMALin toimistossa!</p><p> <
 /p><p>PATA Finland Chapter</p>
DTSTAMP:20260422T022559
DTSTART;TZID=Europe/Helsinki:20170309T173000
DTEND;TZID=Europe/Helsinki:20170309T203000
SEQUENCE:0
TRANSP:OPAQUE
END:VEVENT
END:VCALENDAR