BEGIN:VCALENDAR
VERSION:2.0
PRODID:-//jEvents 2.0 for Joomla//EN
CALSCALE:GREGORIAN
METHOD:PUBLISH
BEGIN:VTIMEZONE
TZID:Europe/Helsinki
BEGIN:STANDARD
DTSTART:20160120T130000
RDATE:20160327T040000
TZOFFSETFROM:+0300
TZOFFSETTO:+0200
TZNAME:Europe/Helsinki EET
END:STANDARD
BEGIN:STANDARD
DTSTART:20161030T030000
RDATE:20170326T040000
TZOFFSETFROM:+0300
TZOFFSETTO:+0200
TZNAME:Europe/Helsinki EET
END:STANDARD
BEGIN:STANDARD
DTSTART:20171029T030000
RDATE:20180325T040000
TZOFFSETFROM:+0300
TZOFFSETTO:+0200
TZNAME:Europe/Helsinki EET
END:STANDARD
BEGIN:STANDARD
DTSTART:20181028T030000
RDATE:20190331T040000
TZOFFSETFROM:+0300
TZOFFSETTO:+0200
TZNAME:Europe/Helsinki EET
END:STANDARD
BEGIN:DAYLIGHT
DTSTART:20160327T040000
RDATE:20161030T030000
TZOFFSETFROM:+0200
TZOFFSETTO:+0300
TZNAME:Europe/Helsinki EEST
END:DAYLIGHT
BEGIN:DAYLIGHT
DTSTART:20170326T040000
RDATE:20171029T030000
TZOFFSETFROM:+0200
TZOFFSETTO:+0300
TZNAME:Europe/Helsinki EEST
END:DAYLIGHT
BEGIN:DAYLIGHT
DTSTART:20180325T040000
RDATE:20181028T030000
TZOFFSETFROM:+0200
TZOFFSETTO:+0300
TZNAME:Europe/Helsinki EEST
END:DAYLIGHT
END:VTIMEZONE
BEGIN:VEVENT
UID:4a2757fd3c7637798114d8c9db09518f
CATEGORIES:Public Event
CREATED:20161214T043148
SUMMARY:KUTSU: PATAseminaari MATKAmessuilla  pe 20.1. - ilmoittaudu mukaan!
DESCRIPTION:<h1 style="font-size: 9.6px;"><strong>PATA-seminaari</strong><br /><strong>
 messuilla 20.1.</strong></h1><p>Messuperjantaina PATAn Suomen jaos tarjoaa 
 kaikille avoimen seminaarin ja paneelin.<br />Seminaariaiheina mm.<br />- m
 iltä matkailu Pohjoismaiden ja Aasian välillä näyttää vuonna 2020?<br />- k
 etkä pärjäävät kovassa kilpailussa?<br />- tulevaisuuden trendit ja haastee
 t?</p><p><strong>Panelistit niin huippua</strong><br />Seminaariosiossa sek
 ä paneelikeskustelussa kuullaan valovoimaisina visionääreinä alan todellisi
 a ammattilaisia:<br /><br />- Finnairin kaupallinen johtaja <strong>Juha Jä
 rvinen</strong>,<br />- Primera Holidaysin toimitusjohtaja <strong>Minna Tu
 orila</strong>,<br />- Tripadvisorin kansainvälisten suhteiden johtaja <str
 ong>Helena Egan</strong><br />- Bangkokista PATAn kansainvälisten suhteiden
  johtaja <strong>Halona Padiachy</strong><br />- PATAn puheenjohtaja <stron
 g>Andrew Jones</strong><br /><br />Tämä PATAn Suomen jaoksen järjestämä sem
 inaari on poikkeuksellisesti ihan kaikille asiasta kiinnostuneille avoin ja
  maksuton.<br />Seminaari on klo 13-16 Messukeskuksessa, Halli 1, Matka Stu
 dio.</p><p>Rekisteröidy tämän linkin kautta:<br /><a href="https://www.webr
 opolsurveys.com/S/9C9E9255D9D62DF2.par">https://www.webropolsurveys.com/S/9
 C9E9255D9D62DF2.par<br /></a>viimeistään tiistaina 17jan2017</p><p> </p><p>
 Kutsu<a href="index.php?option=com_acymailing&ctrl=archive&task=view&mailid
 =72&key=MU2dJ0cP&subid=327-pZ4gLNsW022sFY&tmpl=component&acm=327_72"> tässä
 </a></p>
X-ALT-DESC;FMTTYPE=text/html:<h1 style="font-size: 9.6px;"><strong>PATA-seminaari</strong><br /><strong>
 messuilla 20.1.</strong></h1><p>Messuperjantaina PATAn Suomen jaos tarjoaa 
 kaikille avoimen seminaarin ja paneelin.<br />Seminaariaiheina mm.<br />- m
 iltä matkailu Pohjoismaiden ja Aasian välillä näyttää vuonna 2020?<br />- k
 etkä pärjäävät kovassa kilpailussa?<br />- tulevaisuuden trendit ja haastee
 t?</p><p><strong>Panelistit niin huippua</strong><br />Seminaariosiossa sek
 ä paneelikeskustelussa kuullaan valovoimaisina visionääreinä alan todellisi
 a ammattilaisia:<br /><br />- Finnairin kaupallinen johtaja <strong>Juha Jä
 rvinen</strong>,<br />- Primera Holidaysin toimitusjohtaja <strong>Minna Tu
 orila</strong>,<br />- Tripadvisorin kansainvälisten suhteiden johtaja <str
 ong>Helena Egan</strong><br />- Bangkokista PATAn kansainvälisten suhteiden
  johtaja <strong>Halona Padiachy</strong><br />- PATAn puheenjohtaja <stron
 g>Andrew Jones</strong><br /><br />Tämä PATAn Suomen jaoksen järjestämä sem
 inaari on poikkeuksellisesti ihan kaikille asiasta kiinnostuneille avoin ja
  maksuton.<br />Seminaari on klo 13-16 Messukeskuksessa, Halli 1, Matka Stu
 dio.</p><p>Rekisteröidy tämän linkin kautta:<br /><a href="https://www.webr
 opolsurveys.com/S/9C9E9255D9D62DF2.par">https://www.webropolsurveys.com/S/9
 C9E9255D9D62DF2.par<br /></a>viimeistään tiistaina 17jan2017</p><p> </p><p>
 Kutsu<a href="https://www.patafinland.fi/index.php?option=com_acymailing&ct
 rl=archive&task=view&mailid=72&key=MU2dJ0cP&subid=327-pZ4gLNsW022sFY&tmpl=c
 omponent&acm=327_72"> tässä</a></p>
DTSTAMP:20260422T053840
DTSTART;TZID=Europe/Helsinki:20170120T130000
DTEND;TZID=Europe/Helsinki:20170120T160000
SEQUENCE:0
TRANSP:OPAQUE
END:VEVENT
END:VCALENDAR