BEGIN:VCALENDAR
VERSION:2.0
PRODID:-//jEvents 2.0 for Joomla//EN
CALSCALE:GREGORIAN
METHOD:PUBLISH
BEGIN:VTIMEZONE
TZID:Europe/Helsinki
BEGIN:STANDARD
DTSTART:20160119T090000
RDATE:20160327T040000
TZOFFSETFROM:+0300
TZOFFSETTO:+0200
TZNAME:Europe/Helsinki EET
END:STANDARD
BEGIN:STANDARD
DTSTART:20161030T030000
RDATE:20170326T040000
TZOFFSETFROM:+0300
TZOFFSETTO:+0200
TZNAME:Europe/Helsinki EET
END:STANDARD
BEGIN:STANDARD
DTSTART:20171029T030000
RDATE:20180325T040000
TZOFFSETFROM:+0300
TZOFFSETTO:+0200
TZNAME:Europe/Helsinki EET
END:STANDARD
BEGIN:STANDARD
DTSTART:20181028T030000
RDATE:20190331T040000
TZOFFSETFROM:+0300
TZOFFSETTO:+0200
TZNAME:Europe/Helsinki EET
END:STANDARD
BEGIN:DAYLIGHT
DTSTART:20160327T040000
RDATE:20161030T030000
TZOFFSETFROM:+0200
TZOFFSETTO:+0300
TZNAME:Europe/Helsinki EEST
END:DAYLIGHT
BEGIN:DAYLIGHT
DTSTART:20170326T040000
RDATE:20171029T030000
TZOFFSETFROM:+0200
TZOFFSETTO:+0300
TZNAME:Europe/Helsinki EEST
END:DAYLIGHT
BEGIN:DAYLIGHT
DTSTART:20180325T040000
RDATE:20181028T030000
TZOFFSETFROM:+0200
TZOFFSETTO:+0300
TZNAME:Europe/Helsinki EEST
END:DAYLIGHT
END:VTIMEZONE
BEGIN:VEVENT
UID:a64e25217221ab85b6e2b6611342c09f
CATEGORIES:Public Event
CREATED:20161214T041956
SUMMARY:MATKA 2017
DESCRIPTION:MATKA 2017\nMatkamessut 2017 ovat perinteisesti heti tammikuussa 19.-22.1. 
 \nhttp://matka.messukeskushelsinki.fi/messuilla/ammattilaisille/ (http://ma
 tka.messukeskushelsinki.fi/messuilla/ammattilaisille/)  \n                 
            \n \n Messut alkavat jo keskiviikkona 18.1. Workshop Day’llä. \n
 Tutustu näytteilleasettajiin ja ilmoittaudu mukaan: http://matkaworkshopday
 2017.converve.com/\nDiscoverAmerica ja PATA eivät järjestä erillistä Longha
 ul Workshopia. \n\n\n
X-ALT-DESC;FMTTYPE=text/html:<p><strong><span style="font-family: 'Microsoft Sans Serif', sans-serif;">M
 ATKA 2017</span></strong></p><p><span style="font-family: 'Microsoft Sans S
 erif', sans-serif;">Matkamessut 2017 ovat perinteisesti heti tammikuussa 19
 .-22.1. </span></p><p><span style="font-family: 'Segoe UI', sans-serif; col
 or: black;"><a href="http://matka.messukeskushelsinki.fi/messuilla/ammattil
 aisille/">http://matka.messukeskushelsinki.fi/messuilla/ammattilaisille/</a
 ></span><span style="font-size: 11pt; font-family: 'Segoe UI', sans-serif; 
 color: black;"> </span><span style="font-size: 9pt; font-family: 'Segoe UI'
 , sans-serif; color: black;"> <br />                            </span><spa
 n style="font-size: 11pt; font-family: 'Microsoft Sans Serif', sans-serif;"
 ><br /> </span><span style="font-family: 'Microsoft Sans Serif', sans-serif
 ;"><br /> Messut alkavat jo keskiviikkona 18.1. <strong>Workshop Day</stron
 g>’llä. </span></p><p><span style="font-family: 'Microsoft Sans Serif', san
 s-serif;">Tutustu näytteilleasettajiin ja ilmoittaudu mukaan: <a href="http
 ://matkaworkshopday2017.converve.com/">http://matkaworkshopday2017.converve
 .com/</a></span></p><p><span style="font-family: 'Microsoft Sans Serif', sa
 ns-serif;">DiscoverAmerica ja PATA eivät järjestä erillistä Longhaul Worksh
 opia. </span></p><p><span style="font-family: 'Microsoft Sans Serif', sans-
 serif;"></span></p><p><strong><span style="font-family: 'Microsoft Sans Ser
 if', sans-serif;"></span></strong></p>
DTSTAMP:20260422T052251
DTSTART;TZID=Europe/Helsinki:20170119T090000
DTEND;TZID=Europe/Helsinki:20170122T170000
SEQUENCE:0
TRANSP:OPAQUE
END:VEVENT
END:VCALENDAR