BEGIN:VCALENDAR
VERSION:2.0
PRODID:-//jEvents 2.0 for Joomla//EN
CALSCALE:GREGORIAN
METHOD:PUBLISH
BEGIN:VTIMEZONE
TZID:Europe/Helsinki
BEGIN:STANDARD
DTSTART:20160127T160000
RDATE:20160327T040000
TZOFFSETFROM:+0300
TZOFFSETTO:+0200
TZNAME:Europe/Helsinki EET
END:STANDARD
BEGIN:STANDARD
DTSTART:20161030T030000
RDATE:20170326T040000
TZOFFSETFROM:+0300
TZOFFSETTO:+0200
TZNAME:Europe/Helsinki EET
END:STANDARD
BEGIN:STANDARD
DTSTART:20171029T030000
RDATE:20180325T040000
TZOFFSETFROM:+0300
TZOFFSETTO:+0200
TZNAME:Europe/Helsinki EET
END:STANDARD
BEGIN:STANDARD
DTSTART:20181028T030000
RDATE:20190331T040000
TZOFFSETFROM:+0300
TZOFFSETTO:+0200
TZNAME:Europe/Helsinki EET
END:STANDARD
BEGIN:DAYLIGHT
DTSTART:20160327T040000
RDATE:20161030T030000
TZOFFSETFROM:+0200
TZOFFSETTO:+0300
TZNAME:Europe/Helsinki EEST
END:DAYLIGHT
BEGIN:DAYLIGHT
DTSTART:20170326T040000
RDATE:20171029T030000
TZOFFSETFROM:+0200
TZOFFSETTO:+0300
TZNAME:Europe/Helsinki EEST
END:DAYLIGHT
BEGIN:DAYLIGHT
DTSTART:20180325T040000
RDATE:20181028T030000
TZOFFSETFROM:+0200
TZOFFSETTO:+0300
TZNAME:Europe/Helsinki EEST
END:DAYLIGHT
END:VTIMEZONE
BEGIN:VEVENT
UID:8e462938b36d419a3ca912a6e2d5cacf
CATEGORIES:Public Event
CREATED:20161214T041045
SUMMARY:Kiinalainen uusi vuosi Keskuskadulla
DESCRIPTION:http://kiinalainenuusivuosi.fi/\n\n (http://kiinalainenuusivuosi.fi/)Länsim
 aiseen kalenteriin suhteutettuna kiinalainen uusivuosi on liikkuva juhlapäi
 vä. \nVuonna 2017 se osuu lauantaihin 28.1., jolloin alkaa kiinalainen kuko
 n vuosi.\n\nKiinalaisen kuukalenterin mukainen uusivuosi on lauantaina 28. 
 tammikuuta 2017. \nKiinalaisessa kalenterissa silloin ei kuitenkaan ala vuo
 si 2017. Itse asiassa perinteisesti \nkiinalaiset eivät ole käyttäneet vuos
 ista juoksevaa numerointia lainkaan, vaan vuodet \nkiertävät eläinmerkkien 
 ja elementtien muodostamassa 60 vuoden pituisessa syklissä.\nNyt päättyvä v
 uosi on kiinalaisessa kalenterissa apinan vuosi ja alkava on kukon vuosi. \
 nTai tarkemmin ottaen, koska vuodet nimetään paitsi eläinten, myös elementt
 ien, mukaan, \nniin tuliapinan vuoden päättyessä alkaa tulikukon vuosi.\nPe
 rinteisesti kiinalaista uuttavuotta on juhlittu uudenvuodenaatosta alkaen a
 ina \nuuden vuoden viidenteentoista päivään asti. Useimmissa maissa juhla o
 n kuitenkin \nnykyisin lyhyempi.\nKiinalaista uuttavuotta juhlitaan myös Su
 omessa. Helsingissä sitä juhlistetaan tapahtumassa (http://kiinalainenuusiv
 uosi.fi/), \njoka tällä kertaa järjestetään kiinalaisena uudenvuodenaattona
  perjantaina 27.1.2017 \nKeskuskadulla.\nT (http://kiinalainenuusivuosi.fi/
 )apahtuma ei ole PATAn järjestämä - mutta kannattaa käydä tutustumassa! (ht
 tp://kiinalainenuusivuosi.fi/)\n
X-ALT-DESC;FMTTYPE=text/html:<p><a href="http://kiinalainenuusivuosi.fi/">http://kiinalainenuusivuosi.fi
 /<br /><br /></a><span style="color: #000000; font-family: geneva, arial, s
 ans-serif; font-size: medium;">Länsimaiseen kalenteriin suhteutettuna kiina
 lainen uusivuosi on liikkuva juhlapäivä. <br />Vuonna 2017 se osuu lauantai
 hin 28.1., jolloin alkaa kiinalainen kukon vuosi.<br /></span></p><p style=
 "color: #000000; font-family: geneva, arial, sans-serif; font-size: medium;
 ">Kiinalaisen kuukalenterin mukainen uusivuosi on lauantaina 28. tammikuuta
  2017. <br />Kiinalaisessa kalenterissa silloin ei kuitenkaan ala vuosi 201
 7. Itse asiassa perinteisesti <br />kiinalaiset eivät ole käyttäneet vuosis
 ta juoksevaa numerointia lainkaan, vaan vuodet <br />kiertävät eläinmerkkie
 n ja elementtien muodostamassa 60 vuoden pituisessa syklissä.</p><p style="
 color: #000000; font-family: geneva, arial, sans-serif; font-size: medium;"
 >Nyt päättyvä vuosi on kiinalaisessa kalenterissa apinan vuosi ja alkava on
  kukon vuosi. <br />Tai tarkemmin ottaen, koska vuodet nimetään paitsi eläi
 nten, myös elementtien, mukaan, <br />niin tuliapinan vuoden päättyessä alk
 aa <strong>tulikukon vuosi.</strong></p><p style="color: #000000; font-fami
 ly: geneva, arial, sans-serif; font-size: medium;">Perinteisesti kiinalaist
 a uuttavuotta on juhlittu uudenvuodenaatosta alkaen aina <br />uuden vuoden
  viidenteentoista päivään asti. Useimmissa maissa juhla on kuitenkin <br />
 nykyisin lyhyempi.</p><p style="color: #000000; font-family: geneva, arial,
  sans-serif; font-size: medium;">Kiinalaista uuttavuotta juhlitaan myös Suo
 messa. Helsingissä sitä juhlistetaan <a href="http://kiinalainenuusivuosi.f
 i/" style="color: #0000ff; text-decoration: underline;">tapahtumassa</a>, <
 br />joka tällä kertaa järjestetään kiinalaisena uudenvuodenaattona <strong
 >perjantaina 27.1.2017 </strong><br /><strong>Keskuskadulla.</strong></p><p
 ><a href="http://kiinalainenuusivuosi.fi/"><span style="color: #000000; fon
 t-family: geneva, arial, sans-serif; font-size: medium;"></span>T</a>apahtu
 ma ei ole PATAn järjestämä - mutta kannattaa käydä tutustumassa!<a href="ht
 tp://kiinalainenuusivuosi.fi/"></a></p>
DTSTAMP:20260422T052935
DTSTART;TZID=Europe/Helsinki:20170127T160000
SEQUENCE:0
TRANSP:OPAQUE
END:VEVENT
END:VCALENDAR