BEGIN:VCALENDAR
VERSION:2.0
PRODID:-//jEvents 2.0 for Joomla//EN
CALSCALE:GREGORIAN
METHOD:PUBLISH
BEGIN:VTIMEZONE
TZID:Europe/Helsinki
BEGIN:STANDARD
DTSTART:20151208T173000
RDATE:20160327T040000
TZOFFSETFROM:+0300
TZOFFSETTO:+0200
TZNAME:Europe/Helsinki EET
END:STANDARD
BEGIN:STANDARD
DTSTART:20161030T030000
RDATE:20170326T040000
TZOFFSETFROM:+0300
TZOFFSETTO:+0200
TZNAME:Europe/Helsinki EET
END:STANDARD
BEGIN:STANDARD
DTSTART:20171029T030000
RDATE:20180325T040000
TZOFFSETFROM:+0300
TZOFFSETTO:+0200
TZNAME:Europe/Helsinki EET
END:STANDARD
BEGIN:STANDARD
DTSTART:20181028T030000
RDATE:20190331T040000
TZOFFSETFROM:+0300
TZOFFSETTO:+0200
TZNAME:Europe/Helsinki EET
END:STANDARD
BEGIN:DAYLIGHT
DTSTART:20160327T040000
RDATE:20161030T030000
TZOFFSETFROM:+0200
TZOFFSETTO:+0300
TZNAME:Europe/Helsinki EEST
END:DAYLIGHT
BEGIN:DAYLIGHT
DTSTART:20170326T040000
RDATE:20171029T030000
TZOFFSETFROM:+0200
TZOFFSETTO:+0300
TZNAME:Europe/Helsinki EEST
END:DAYLIGHT
BEGIN:DAYLIGHT
DTSTART:20180325T040000
RDATE:20181028T030000
TZOFFSETFROM:+0200
TZOFFSETTO:+0300
TZNAME:Europe/Helsinki EEST
END:DAYLIGHT
END:VTIMEZONE
BEGIN:VEVENT
UID:6a0a616323ceb52f6e61465aab79b6bf
CATEGORIES:Public Event
CREATED:20161117T142029
SUMMARY:PATA Finland Chapterin vuosikokous
DESCRIPTION:KUTSU VUOSIKOKOUKSEEN 2016 \nTervetuloa PATA Finland Chapterin vuosikokouks
 een 2016. \nKokous on avoin kaikille PATAn Suomen osaston yritys-, toimiala
 -, kannatus- ja henkilöjäsenille.\nAika: torstaina 8. joulukuuta 2016 klo 1
 7.30 \nPaikka: Hilton Helsinki Strand, John Stenbergin ranta 4. \n \nEsitys
 lista \n1. Kokouksen avaus\n2. Todetaan kokouksen laillisuus ja päätösvalta
 isuus\n3. Valitaan kokouksen puheenjohtaja, sihteeri, kaksi pöytäkirjan tar
 kastajaa sekä tarvittaessa kaksi ääntenlaskijaa\n4. Esitetään tili- ja toim
 intakertomus ajalta 1.1.-31.12.2016\n5. Vahvistetaan seuraavan tilikauden t
 oimintasuunnitelma sekä jäsenmaksujen suuruus\n6. Valitaan hallituksen jäse
 net erovuoroisten tilalle toimikausille 2017 – 2018\n7. Hallituksen ehdotus
  vuoden 2017 stipendien myöntämisestä\n8. Käsitellään muut esille tulevat a
 siat 9. Kokouksen päättäminen \n \nIlmoittautumiset kokoukseen tällä jäsens
 ivulla viimeistään 5.12.2016. \nKokouksen jälkeen nautimme jouluruokaa.\nTe
 rvetuloa mukaan!\nPATA FINLAND CHAPTER\n\nPS Noshow kulut 25 eur.\n \n \n\n
 VUOSIKOKOUS 8.12.2016\nEXECUTIVE COMMITTEE\nToimikaudelle 2016 - 2017 aiemm
 in valitut hallituksen jäsenet\nAtro Kansi This email address is being prot
 ected from spambots. You need JavaScript enabled to view it. Olympia Kaukom
 atkatoimisto\n\nTarja Koivisto This email address is being protected from s
 pambots. You need JavaScript enabled to view it. TAT Tourism Authority of T
 hailand\n\nJenny Odrobinski This email address is being protected from spam
 bots. You need JavaScript enabled to view it. Suomen Matkatoimistoalan Liit
 to\nLea Simpanen This email address is being protected from spambots. You n
 eed JavaScript enabled to view it. Helin Matkat\n\nErsin Sola This email ad
 dress is being protected from spambots. You need JavaScript enabled to view
  it. Turkish Airlines\n\nSalla Juustila This email address is being protect
 ed from spambots. You need JavaScript enabled to view it. Haaga-Helia\n\nEr
 ovuoroiset jäsenet\nKatri Hujanen This email address is being protected fro
 m spambots. You need JavaScript enabled to view it. CWT\n\nAri Huuskonen Th
 is email address is being protected from spambots. You need JavaScript enab
 led to view it. MatkaVekka&amp;Lomamatkat\n\nMarkku Kupiainen This email ad
 dress is being protected from spambots. You need JavaScript enabled to view
  it. Matka-Agentit\n\nMikaela Nieminen This email address is being protecte
 d from spambots. You need JavaScript enabled to view it. SMT\n\nMarco Simon
 en This email address is being protected from spambots. You need JavaScript
  enabled to view it. MATKA\n\nLeena Aalto This email address is being prote
 cted from spambots. You need JavaScript enabled to view it. Ikkunapaikka\n\
 nAdvisor Council (not ExCo members)\nHanna-Leena Halsas This email address 
 is being protected from spambots. You need JavaScript enabled to view it. H
 onorary Chairperson, International &amp; Chapter Relations\nSoile Kylämies 
 This email address is being protected from spambots. You need JavaScript en
 abled to view it. Honorary Member,IT, Member Communications\nChapter´s Secr
 etariat (not ExCo member)\nRauni Vesterinen This email address is being pro
 tected from spambots. You need JavaScript enabled to view it. Secretary &am
 p; Treasurer\n\n\n\n \n
X-ALT-DESC;FMTTYPE=text/html:<p>KUTSU VUOSIKOKOUKSEEN 2016 <br />Tervetuloa PATA Finland Chapterin vuosi
 kokoukseen 2016. <br />Kokous on avoin kaikille PATAn Suomen osaston yritys
 -, toimiala-, kannatus- ja henkilöjäsenille.</p><p><strong>Aika</strong>: t
 orstaina 8. joulukuuta 2016 klo 17.30 <br /><strong>Paikka</strong>:<span s
 tyle="text-decoration: underline;"><strong> Hilton Helsinki Strand</strong>
 </span>, John Stenbergin ranta 4. <br /> <br /><strong>Esityslista</strong>
  <br />1. Kokouksen avaus</p><p>2. Todetaan kokouksen laillisuus ja päätösv
 altaisuus</p><p>3. Valitaan kokouksen puheenjohtaja, sihteeri, kaksi pöytäk
 irjan tarkastajaa sekä tarvittaessa kaksi ääntenlaskijaa</p><p>4. Esitetään
  tili- ja toimintakertomus ajalta 1.1.-31.12.2016</p><p>5. Vahvistetaan seu
 raavan tilikauden toimintasuunnitelma sekä jäsenmaksujen suuruus</p><p>6. V
 alitaan hallituksen jäsenet erovuoroisten tilalle toimikausille 2017 – 2018
 </p><p>7. Hallituksen ehdotus vuoden 2017 stipendien myöntämisestä</p><p>8.
  Käsitellään muut esille tulevat asiat 9. Kokouksen päättäminen <br /> <br 
 />Ilmoittautumiset kokoukseen tällä jäsensivulla <strong>viimeistään 5.12.2
 016</strong>. <br />Kokouksen jälkeen nautimme jouluruokaa.</p><p>Tervetulo
 a mukaan!</p><p>PATA FINLAND CHAPTER<br /><br />PS Noshow kulut 25 eur.</p>
 <p> </p><p> </p><p style="text-align: right;"><span style="font-family: 'Mi
 crosoft Sans Serif', sans-serif;"></span></p><p style="text-align: right;">
 <strong><span style="font-size: 14pt; font-family: 'Microsoft Sans Serif', 
 sans-serif;">VUOSIKOKOUS 8.12.2016</span></strong></p><p><strong>EXECUTIVE 
 COMMITTEE</strong></p><p><strong>Toimikaudelle 2016 - 2017 aiemmin valitut 
 hallituksen jäsenet</strong></p><p>Atro Kansi <joomla-hidden-mail  is-link=
 "1" is-email="1" first="YXRyby5rYW5zaQ==" last="b2x5bXBpYS5maQ==" text="YXR
 yby5rYW5zaUBvbHltcGlhLmZp" base="" >This email address is being protected f
 rom spambots. You need JavaScript enabled to view it.</joomla-hidden-mail> 
 Olympia Kaukomatkatoimisto<br /><br />Tarja Koivisto <joomla-hidden-mail  i
 s-link="1" is-email="1" first="dGFyamEua29pdmlzdG8=" last="YWlydG91Y2guZmk=
 " text="dGFyamEua29pdmlzdG9AYWlydG91Y2guZmk=" base="" >This email address i
 s being protected from spambots. You need JavaScript enabled to view it.</j
 oomla-hidden-mail> TAT Tourism Authority of Thailand<br /><br />Jenny Odrob
 inski <joomla-hidden-mail  is-link="1" is-email="1" first="amVubnkub2Ryb2Jp
 bnNraQ==" last="Z21haWwuY29t" text="amVubnkub2Ryb2JpbnNraUBnbWFpbC5jb20=" b
 ase="" >This email address is being protected from spambots. You need JavaS
 cript enabled to view it.</joomla-hidden-mail> Suomen Matkatoimistoalan Lii
 tto</p><p>Lea Simpanen <joomla-hidden-mail  is-link="1" is-email="1" first=
 "bGVhLnNpbXBhbmVu" last="aGVsaW5tYXRrYXQuZmk=" text="bGVhLnNpbXBhbmVuQGhlbG
 lubWF0a2F0LmZp" base="" >This email address is being protected from spambot
 s. You need JavaScript enabled to view it.</joomla-hidden-mail> Helin Matka
 t<br /><br />Ersin Sola <joomla-hidden-mail  is-link="1" is-email="1" first
 ="ZXNvbGE=" last="dGh5LmNvbQ==" text="ZXNvbGFAdGh5LmNvbQ==" base="" >This e
 mail address is being protected from spambots. You need JavaScript enabled 
 to view it.</joomla-hidden-mail> Turkish Airlines<br /><br />Salla Juustila
  <joomla-hidden-mail  is-link="1" is-email="1" first="c2FsbGEuanV1c3RpbGE="
  last="aGFhZ2EtaGVsaWEuZmk=" text="c2FsbGEuanV1c3RpbGFAaGFhZ2EtaGVsaWEuZmk=
 " base="" >This email address is being protected from spambots. You need Ja
 vaScript enabled to view it.</joomla-hidden-mail> Haaga-Helia</p><p><br /><
 strong>Erovuoroiset jäsenet</strong><br />Katri Hujanen <joomla-hidden-mail
   is-link="1" is-email="1" first="a2F0cmkuaHVqYW5lbg==" last="a2FsZXZhdHJhd
 mVsLmZp" text="a2F0cmkuaHVqYW5lbkBrYWxldmF0cmF2ZWwuZmk=" base="" >This emai
 l address is being protected from spambots. You need JavaScript enabled to 
 view it.</joomla-hidden-mail> CWT<br /><br />Ari Huuskonen <joomla-hidden-m
 ail  is-link="1" is-email="1" first="YXJpLmh1dXNrb25lbg==" last="bWF0a2F2ZW
 trYS5maQ==" text="YXJpLmh1dXNrb25lbkBtYXRrYXZla2thLmZp" base="" >This email
  address is being protected from spambots. You need JavaScript enabled to v
 iew it.</joomla-hidden-mail> MatkaVekka&Lomamatkat<br /><br />Markku Kupiai
 nen <joomla-hidden-mail  is-link="1" is-email="1" first="bWFya2t1Lmt1cGlhaW
 5lbg==" last="bWF0a2EtYWdlbnRpdC5maQ==" text="bWFya2t1Lmt1cGlhaW5lbkBtYXRrY
 S1hZ2VudGl0LmZp" base="" >This email address is being protected from spambo
 ts. You need JavaScript enabled to view it.</joomla-hidden-mail> Matka-Agen
 tit<br /><br />Mikaela Nieminen <joomla-hidden-mail  is-link="1" is-email="
 1" first="bWlrYWVsYS5uaWVtaW5lbg==" last="c210LmZp" text="bWlrYWVsYS5uaWVta
 W5lbkBzbXQuZmk=" base="" >This email address is being protected from spambo
 ts. You need JavaScript enabled to view it.</joomla-hidden-mail> SMT<br /><
 br />Marco Simonen <joomla-hidden-mail  is-link="1" is-email="1" first="Y2h
 haXJtYW4=" last="cGF0YWZpbmxhbmQuZmk=" text="Y2hhaXJtYW5AcGF0YWZpbmxhbmQuZm
 k=" base="" >This email address is being protected from spambots. You need 
 JavaScript enabled to view it.</joomla-hidden-mail> MATKA<br /><br />Leena 
 Aalto <joomla-hidden-mail  is-link="1" is-email="1" first="bGVlbmEuYWFsdG8=
 " last="aWtrdW5hcGFpa2thLmZp" text="bGVlbmEuYWFsdG9AaWtrdW5hcGFpa2thLmZp" b
 ase="" >This email address is being protected from spambots. You need JavaS
 cript enabled to view it.</joomla-hidden-mail> Ikkunapaikka</p><p><br /><st
 rong>Advisor Council </strong>(not ExCo members)<br />Hanna-Leena Halsas <j
 oomla-hidden-mail  is-link="1" is-email="1" first="aW50ZXJuYXRpb25hbC5yZWxh
 dGlvbnM=" last="cGF0YWZpbmxhbmQuZmk=" text="aW50ZXJuYXRpb25hbC5yZWxhdGlvbnN
 AcGF0YWZpbmxhbmQuZmk=" base="" >This email address is being protected from 
 spambots. You need JavaScript enabled to view it.</joomla-hidden-mail> Hono
 rary Chairperson, International & Chapter Relations<br />Soile Kylämies <jo
 omla-hidden-mail  is-link="1" is-email="1" first="c29pbGU=" last="d2VsaG8uY
 29t" text="c29pbGVAd2VsaG8uY29t" base="" >This email address is being prote
 cted from spambots. You need JavaScript enabled to view it.</joomla-hidden-
 mail> Honorary Member,IT, Member Communications</p><p><strong>Chapter´s Sec
 retariat </strong>(not ExCo member)<br />Rauni Vesterinen <joomla-hidden-ma
 il  is-link="1" is-email="1" first="c2VjcmV0YXJpYXQ=" last="cGF0YWZpbmxhbmQ
 uZmk=" text="c2VjcmV0YXJpYXRAcGF0YWZpbmxhbmQuZmk=" base="" >This email addr
 ess is being protected from spambots. You need JavaScript enabled to view i
 t.</joomla-hidden-mail> Secretary & Treasurer</p><p><strong><span style="fo
 nt-family: 'Microsoft Sans Serif', sans-serif; color: black;"></span></stro
 ng></p><p><strong><span style="font-family: 'Microsoft Sans Serif', sans-se
 rif; color: black;"></span></strong></p><p><strong><span style="font-family
 : 'Microsoft Sans Serif', sans-serif; color: black;"></span></strong></p><p
 > </p>
CONTACT:                             
DTSTAMP:20260422T071610
DTSTART;TZID=Europe/Helsinki:20161208T173000
DTEND;TZID=Europe/Helsinki:20161208T210000
SEQUENCE:0
TRANSP:OPAQUE
END:VEVENT
END:VCALENDAR